{
 "currentVersion": 11.2,
 "cimVersion": "3.2.0",
 "serviceDescription": "",
 "mapName": "1937Imagery",
 "description": "",
 "copyrightText": "",
 "supportsDynamicLayers": true,
 "layers": [
  {
   "id": 0,
   "name": "Imagery1937",
   "parentLayerId": -1,
   "defaultVisibility": true,
   "subLayerIds": null,
   "minScale": 0,
   "maxScale": 0,
   "type": "Raster Layer",
   "supportsDynamicLegends": true
  }
 ],
 "tables": [],
 "spatialReference": {
  "wkid": 103045,
  "latestWkid": 6463,
  "vcsWkid": 105703,
  "latestVcsWkid": 6360,
  "xyTolerance": 0.003280833333333333,
  "zTolerance": 0.003280833333333333,
  "mTolerance": 0.001,
  "falseX": -115419000,
  "falseY": -93897600,
  "xyUnits": 3.742388458866003E7,
  "falseZ": -100000,
  "zUnits": 3048.0060960121923,
  "falseM": -100000,
  "mUnits": 10000
 },
 "singleFusedMapCache": true,
 "tileInfo": {
  "rows": 256,
  "cols": 256,
  "dpi": 96,
  "format": "JPEG",
  "compressionQuality": 80,
  "origin": {
   "x": -115419000,
   "y": 146782900
  },
  "spatialReference": {
   "wkid": 103045,
   "latestWkid": 6463,
   "vcsWkid": 105703,
   "latestVcsWkid": 6360,
   "xyTolerance": 0.003280833333333333,
   "zTolerance": 0.003280833333333333,
   "mTolerance": 0.001,
   "falseX": -115419000,
   "falseY": -93897600,
   "xyUnits": 3.742388458866003E7,
   "falseZ": -100000,
   "zUnits": 3048.0060960121923,
   "falseM": -100000,
   "mUnits": 10000
  },
  "lods": [
   {
    "level": 0,
    "resolution": 100,
    "scale": 115200
   },
   {
    "level": 1,
    "resolution": 66.66666666666666,
    "scale": 76800
   },
   {
    "level": 2,
    "resolution": 50,
    "scale": 57600
   },
   {
    "level": 3,
    "resolution": 33.33333333333333,
    "scale": 38400
   },
   {
    "level": 4,
    "resolution": 25,
    "scale": 28800
   },
   {
    "level": 5,
    "resolution": 16.666666666666664,
    "scale": 19200
   },
   {
    "level": 6,
    "resolution": 12.5,
    "scale": 14400
   },
   {
    "level": 7,
    "resolution": 8.333333333333332,
    "scale": 9600
   },
   {
    "level": 8,
    "resolution": 6.25,
    "scale": 7200
   },
   {
    "level": 9,
    "resolution": 4.166666666666666,
    "scale": 4800
   },
   {
    "level": 10,
    "resolution": 2.083333333333333,
    "scale": 2400
   },
   {
    "level": 11,
    "resolution": 1.0416666666666665,
    "scale": 1200
   },
   {
    "level": 12,
    "resolution": 0.5208333333333333,
    "scale": 600
   },
   {
    "level": 13,
    "resolution": 0.26041666666666663,
    "scale": 300
   }
  ]
 },
 "storageInfo": {
  "storageFormat": "esriMapCacheStorageModeCompactV2",
  "packetSize": 128
 },
 "initialExtent": {
  "xmin": 5160608.51795196,
  "ymin": 3644262.6988519942,
  "xmax": 5239633.133677239,
  "ymax": 3675695.459168492,
  "spatialReference": {
   "wkid": 103045,
   "latestWkid": 6463,
   "vcsWkid": 105703,
   "latestVcsWkid": 6360,
   "xyTolerance": 0.003280833333333333,
   "zTolerance": 0.003280833333333333,
   "mTolerance": 0.001,
   "falseX": -115419000,
   "falseY": -93897600,
   "xyUnits": 3.742388458866003E7,
   "falseZ": -100000,
   "zUnits": 3048.0060960121923,
   "falseM": -100000,
   "mUnits": 10000
  }
 },
 "fullExtent": {
  "xmin": 5148035.411650598,
  "ymin": 3623657.1462288126,
  "xmax": 5257835.411650598,
  "ymax": 3684523.8128954796,
  "spatialReference": {
   "wkid": 103045,
   "latestWkid": 6463,
   "vcsWkid": 105703,
   "latestVcsWkid": 6360,
   "xyTolerance": 0.003280833333333333,
   "zTolerance": 0.003280833333333333,
   "mTolerance": 0.001,
   "falseX": -115419000,
   "falseY": -93897600,
   "xyUnits": 3.742388458866003E7,
   "falseZ": -100000,
   "zUnits": 3048.0060960121923,
   "falseM": -100000,
   "mUnits": 10000
  }
 },
 "datesInUnknownTimezone": false,
 "minScale": 115200,
 "maxScale": 600,
 "minLOD": 0,
 "maxLOD": 12,
 "units": "esriFeet",
 "supportedImageFormatTypes": "PNG32,PNG24,PNG,JPG,DIB,TIFF,EMF,PS,PDF,GIF,SVG,SVGZ,BMP",
 "documentInfo": {
  "Title": "",
  "Author": "",
  "Comments": "",
  "Subject": "",
  "Category": "",
  "Version": "10.1",
  "AntialiasingMode": "None",
  "TextAntialiasingMode": "Force",
  "Keywords": ""
 },
 "supportsQueryDomains": true,
 "capabilities": "Map,Query,Data",
 "supportedQueryFormats": "JSON, geoJSON, PBF",
 "exportTilesAllowed": false,
 "referenceScale": 0.0,
 "supportsDatumTransformation": true,
 "heightModelInfo": {
  "heightModel": "gravity_related_height",
  "vertCRS": "NAVD_1988_Foot_US",
  "heightUnit": "us-foot"
 },
 "supportsVCSProjection": true,
 "archivingInfo": {
  "supportsHistoricMoment": false
 },
 "supportsClipping": true,
 "supportsSpatialFilter": true,
 "supportsTimeRelation": true,
 "supportsQueryDataElements": true,
 "mapUnits": {
  "uwkid": 9003
 },
 "maxRecordCount": 1000,
 "maxImageHeight": 4096,
 "maxImageWidth": 4096,
 "supportedExtensions": ""
}
