{
 "currentVersion": 11.2,
 "cimVersion": "3.2.0",
 "serviceDescription": "",
 "mapName": "Imagery2023",
 "description": "",
 "copyrightText": "",
 "supportsDynamicLayers": true,
 "layers": [
  {
   "id": 0,
   "name": "IABLAC23_52440E365983N.tif",
   "parentLayerId": -1,
   "defaultVisibility": true,
   "subLayerIds": null,
   "minScale": 0,
   "maxScale": 0,
   "type": "Raster Layer",
   "supportsDynamicLegends": true
  },
  {
   "id": 1,
   "name": "IABLAC23_52176E367303N.tif",
   "parentLayerId": -1,
   "defaultVisibility": true,
   "subLayerIds": null,
   "minScale": 0,
   "maxScale": 0,
   "type": "Raster Layer",
   "supportsDynamicLegends": true
  },
  {
   "id": 2,
   "name": "IABLAC23_51807E361231N.tif",
   "parentLayerId": -1,
   "defaultVisibility": true,
   "subLayerIds": null,
   "minScale": 0,
   "maxScale": 0,
   "type": "Raster Layer",
   "supportsDynamicLegends": true
  },
  {
   "id": 3,
   "name": "IABLAC23_51754E363871N.tif",
   "parentLayerId": -1,
   "defaultVisibility": true,
   "subLayerIds": null,
   "minScale": 0,
   "maxScale": 0,
   "type": "Raster Layer",
   "supportsDynamicLegends": true
  }
 ],
 "tables": [],
 "spatialReference": {
  "wkid": 103045,
  "latestWkid": 6463,
  "xyTolerance": 0.003280833333333333,
  "zTolerance": 0.001,
  "mTolerance": 0.001,
  "falseX": -115419000,
  "falseY": -93897600,
  "xyUnits": 3.742388458866003E7,
  "falseZ": -100000,
  "zUnits": 10000,
  "falseM": -100000,
  "mUnits": 10000
 },
 "singleFusedMapCache": true,
 "tileInfo": {
  "rows": 256,
  "cols": 256,
  "dpi": 96,
  "format": "JPEG",
  "compressionQuality": 80,
  "origin": {
   "x": -1.21451204796327E8,
   "y": 1.47936039953788E8
  },
  "spatialReference": {
   "wkid": 103045,
   "latestWkid": 6463,
   "xyTolerance": 0.003280833333333333,
   "zTolerance": 0.001,
   "mTolerance": 0.001,
   "falseX": -115419000,
   "falseY": -93897600,
   "xyUnits": 3.742388458866003E7,
   "falseZ": -100000,
   "zUnits": 10000,
   "falseM": -100000,
   "mUnits": 10000
  },
  "lods": [
   {
    "level": 0,
    "resolution": 100,
    "scale": 115200
   },
   {
    "level": 1,
    "resolution": 66.66666666666666,
    "scale": 76800
   },
   {
    "level": 2,
    "resolution": 50,
    "scale": 57600
   },
   {
    "level": 3,
    "resolution": 33.33333333333333,
    "scale": 38400
   },
   {
    "level": 4,
    "resolution": 25,
    "scale": 28800
   },
   {
    "level": 5,
    "resolution": 16.666666666666664,
    "scale": 19200
   },
   {
    "level": 6,
    "resolution": 12.5,
    "scale": 14400
   },
   {
    "level": 7,
    "resolution": 8.333333333333332,
    "scale": 9600
   },
   {
    "level": 8,
    "resolution": 6.25,
    "scale": 7200
   },
   {
    "level": 9,
    "resolution": 4.166666666666666,
    "scale": 4800
   },
   {
    "level": 10,
    "resolution": 2.083333333333333,
    "scale": 2400
   },
   {
    "level": 11,
    "resolution": 1.0416666666666665,
    "scale": 1200
   },
   {
    "level": 12,
    "resolution": 0.5208333333333333,
    "scale": 600
   },
   {
    "level": 13,
    "resolution": 0.26041666666666663,
    "scale": 300
   }
  ]
 },
 "storageInfo": {
  "storageFormat": "esriMapCacheStorageModeCompactV2",
  "packetSize": 128
 },
 "initialExtent": {
  "xmin": 5163854.075145651,
  "ymin": 3632160.282762533,
  "xmax": 5236737.965500435,
  "ymax": 3681977.357777196,
  "spatialReference": {
   "wkid": 103045,
   "latestWkid": 6463,
   "xyTolerance": 0.003280833333333333,
   "zTolerance": 0.001,
   "mTolerance": 0.001,
   "falseX": -115419000,
   "falseY": -93897600,
   "xyUnits": 3.742388458866003E7,
   "falseZ": -100000,
   "zUnits": 10000,
   "falseM": -100000,
   "mUnits": 10000
  }
 },
 "fullExtent": {
  "xmin": 5179999.9933170555,
  "ymin": 3623999.982926802,
  "xmax": 5224999.993330446,
  "ymax": 3684000.2329444652,
  "spatialReference": {
   "wkid": 103045,
   "latestWkid": 6463,
   "xyTolerance": 0.003280833333333333,
   "zTolerance": 0.001,
   "mTolerance": 0.001,
   "falseX": -115419000,
   "falseY": -93897600,
   "xyUnits": 3.742388458866003E7,
   "falseZ": -100000,
   "zUnits": 10000,
   "falseM": -100000,
   "mUnits": 10000
  }
 },
 "datesInUnknownTimezone": false,
 "minScale": 115200,
 "maxScale": 300,
 "units": "esriFeet",
 "supportedImageFormatTypes": "PNG32,PNG24,PNG,JPG,DIB,TIFF,EMF,PS,PDF,GIF,SVG,SVGZ,BMP",
 "documentInfo": {
  "Title": "",
  "Author": "",
  "Comments": "",
  "Subject": "",
  "Category": "",
  "Version": "2.9.0",
  "AntialiasingMode": "Fast",
  "TextAntialiasingMode": "Force",
  "Keywords": ""
 },
 "supportsQueryDomains": true,
 "capabilities": "Map,Query,Data",
 "supportedQueryFormats": "JSON, geoJSON, PBF",
 "exportTilesAllowed": false,
 "referenceScale": 0.0,
 "datumTransformations": [
  {
   "geoTransforms": [
    {
     "wkid": 108190,
     "latestWkid": 108190,
     "transformForward": false,
     "name": "WGS_1984_(ITRF00)_To_NAD_1983"
    },
    {
     "wkid": 108363,
     "latestWkid": 108363,
     "transformForward": true,
     "name": "WGS_1984_(ITRF08)_To_NAD_1983_2011"
    }
   ]
  },
  {
   "geoTransforms": [
    {
     "wkid": 108363,
     "latestWkid": 108363,
     "transformForward": false,
     "name": "WGS_1984_(ITRF08)_To_NAD_1983_2011"
    },
    {
     "wkid": 108190,
     "latestWkid": 108190,
     "transformForward": true,
     "name": "WGS_1984_(ITRF00)_To_NAD_1983"
    }
   ]
  }
 ],
 "supportsDatumTransformation": true,
 "archivingInfo": {
  "supportsHistoricMoment": false
 },
 "supportsClipping": true,
 "supportsSpatialFilter": true,
 "supportsTimeRelation": true,
 "supportsQueryDataElements": true,
 "mapUnits": {
  "uwkid": 9003
 },
 "maxRecordCount": 2000,
 "maxImageHeight": 4096,
 "maxImageWidth": 4096,
 "supportedExtensions": ""
}
