{
 "currentVersion": 11.2,
 "cimVersion": "3.2.0",
 "serviceDescription": "",
 "mapName": "Imagery2026",
 "description": "",
 "copyrightText": "",
 "supportsDynamicLayers": true,
 "layers": [
  {
   "id": 0,
   "name": "C2026.tif",
   "parentLayerId": -1,
   "defaultVisibility": true,
   "subLayerIds": null,
   "minScale": 0,
   "maxScale": 0,
   "type": "Raster Layer",
   "supportsDynamicLegends": true
  },
  {
   "id": 1,
   "name": "NE2026.tif",
   "parentLayerId": -1,
   "defaultVisibility": true,
   "subLayerIds": null,
   "minScale": 0,
   "maxScale": 0,
   "type": "Raster Layer",
   "supportsDynamicLegends": true
  },
  {
   "id": 2,
   "name": "S2026.tif",
   "parentLayerId": -1,
   "defaultVisibility": true,
   "subLayerIds": null,
   "minScale": 0,
   "maxScale": 0,
   "type": "Raster Layer",
   "supportsDynamicLegends": true
  },
  {
   "id": 3,
   "name": "W2026.tif",
   "parentLayerId": -1,
   "defaultVisibility": true,
   "subLayerIds": null,
   "minScale": 0,
   "maxScale": 0,
   "type": "Raster Layer",
   "supportsDynamicLegends": true
  }
 ],
 "tables": [],
 "spatialReference": {
  "wkid": 103045,
  "latestWkid": 6463,
  "xyTolerance": 0.003280833333333333,
  "zTolerance": 0.001,
  "mTolerance": 0.001,
  "falseX": -115419000,
  "falseY": -93897600,
  "xyUnits": 3048.0060960121928,
  "falseZ": -100000,
  "zUnits": 10000,
  "falseM": -100000,
  "mUnits": 10000
 },
 "singleFusedMapCache": true,
 "tileInfo": {
  "rows": 512,
  "cols": 512,
  "dpi": 96,
  "format": "JPEG",
  "compressionQuality": 75,
  "origin": {
   "x": -115419000,
   "y": 1.4678289999999997E8
  },
  "spatialReference": {
   "wkid": 103045,
   "latestWkid": 6463,
   "vcsWkid": 105703,
   "latestVcsWkid": 6360,
   "xyTolerance": 0.003280833333333333,
   "zTolerance": 0.003280833333333333,
   "mTolerance": 0.001,
   "falseX": -115419000,
   "falseY": -93897600,
   "xyUnits": 3.742388458866003E7,
   "falseZ": -100000,
   "zUnits": 3048.0060960121923,
   "falseM": -100000,
   "mUnits": 10000
  },
  "lods": [
   {
    "level": 0,
    "resolution": 133.33333333333331,
    "scale": 153600
   },
   {
    "level": 1,
    "resolution": 66.66666666666666,
    "scale": 76800
   },
   {
    "level": 2,
    "resolution": 33.33333333333333,
    "scale": 38400
   },
   {
    "level": 3,
    "resolution": 16.666666666666664,
    "scale": 19200
   },
   {
    "level": 4,
    "resolution": 8.333333333333332,
    "scale": 9600
   },
   {
    "level": 5,
    "resolution": 4.166666666666666,
    "scale": 4800
   },
   {
    "level": 6,
    "resolution": 2.083333333333333,
    "scale": 2400
   },
   {
    "level": 7,
    "resolution": 1.0416666666666665,
    "scale": 1200
   },
   {
    "level": 8,
    "resolution": 0.5208333333333333,
    "scale": 600
   },
   {
    "level": 9,
    "resolution": 0.26041666666666663,
    "scale": 300
   }
  ]
 },
 "storageInfo": {
  "storageFormat": "esriMapCacheStorageModeCompactV2",
  "packetSize": 128
 },
 "initialExtent": {
  "xmin": 5162374.658977397,
  "ymin": 3632854.7025977867,
  "xmax": 5238217.3816663865,
  "ymax": 3681282.9379453734,
  "spatialReference": {
   "wkid": 103045,
   "latestWkid": 6463,
   "xyTolerance": 0.003280833333333333,
   "zTolerance": 0.001,
   "mTolerance": 0.001,
   "falseX": -115419000,
   "falseY": -93897600,
   "xyUnits": 3048.0060960121928,
   "falseZ": -100000,
   "zUnits": 10000,
   "falseM": -100000,
   "mUnits": 10000
  }
 },
 "fullExtent": {
  "xmin": 5179999.999999997,
  "ymin": 3624000.000033327,
  "xmax": 5225000.000000005,
  "ymax": 3684000.250033333,
  "spatialReference": {
   "wkid": 103045,
   "latestWkid": 6463,
   "xyTolerance": 0.003280833333333333,
   "zTolerance": 0.001,
   "mTolerance": 0.001,
   "falseX": -115419000,
   "falseY": -93897600,
   "xyUnits": 3048.0060960121928,
   "falseZ": -100000,
   "zUnits": 10000,
   "falseM": -100000,
   "mUnits": 10000
  }
 },
 "datesInUnknownTimezone": false,
 "minScale": 153600,
 "maxScale": 300,
 "minLOD": 0,
 "maxLOD": 9,
 "units": "esriFeet",
 "supportedImageFormatTypes": "PNG32,PNG24,PNG,JPG,DIB,TIFF,EMF,PS,PDF,GIF,SVG,SVGZ,BMP",
 "documentInfo": {
  "Title": "",
  "Author": "",
  "Comments": "",
  "Subject": "",
  "Category": "",
  "Version": "3.2.0",
  "AntialiasingMode": "Fast",
  "TextAntialiasingMode": "Force",
  "Keywords": ""
 },
 "supportsQueryDomains": true,
 "capabilities": "Map,Query,Data",
 "supportedQueryFormats": "JSON, geoJSON, PBF",
 "exportTilesAllowed": false,
 "referenceScale": 0.0,
 "datumTransformations": [
  {
   "geoTransforms": [
    {
     "wkid": 108190,
     "latestWkid": 108190,
     "transformForward": false,
     "name": "WGS_1984_(ITRF00)_To_NAD_1983"
    },
    {
     "wkid": 108363,
     "latestWkid": 108363,
     "transformForward": true,
     "name": "WGS_1984_(ITRF08)_To_NAD_1983_2011"
    }
   ]
  },
  {
   "geoTransforms": [
    {
     "wkid": 108363,
     "latestWkid": 108363,
     "transformForward": false,
     "name": "WGS_1984_(ITRF08)_To_NAD_1983_2011"
    },
    {
     "wkid": 108190,
     "latestWkid": 108190,
     "transformForward": true,
     "name": "WGS_1984_(ITRF00)_To_NAD_1983"
    }
   ]
  }
 ],
 "supportsDatumTransformation": true,
 "archivingInfo": {
  "supportsHistoricMoment": false
 },
 "supportsClipping": true,
 "supportsSpatialFilter": true,
 "supportsTimeRelation": true,
 "supportsQueryDataElements": true,
 "mapUnits": {
  "uwkid": 9003
 },
 "maxRecordCount": 2000,
 "maxImageHeight": 4096,
 "maxImageWidth": 4096,
 "supportedExtensions": ""
}
